BEGIN:VCALENDAR
VERSION:2.0
PRODID:-//ChamberMaster//Event Calendar 2.0//EN
METHOD:PUBLISH
X-PUBLISHED-TTL:P3D
REFRESH-INTERVAL:P3D
CALSCALE:GREGORIAN
BEGIN:VEVENT
DTSTART;VALUE=DATE:20231015
DTEND;VALUE=DATE:20231019
TRANSP:TRANSPARENT
X-MICROSOFT-CDO-ALLDAYEVENT:TRUE
SUMMARY:SMACNA National 2023 Convention - Phoenix AZ
DESCRIPTION:The 2023 SMACNA Annual Convention is a yearly highlight for members\, chapter executives and Associate Members wishing to network with peers\, see old friends\, learn important trends and new skills\, and discuss business topics with leading service providers and manufacturers.  In addition\, SMACNA offers wonderful opportunities to socialize and attend great social functions like the Meet & Greet Reception\, PAC Reception & Dinner\, College of Fellows Golf Outing\, and the Closing Dinner and Show.\n\nThis year\, SMACNA is hosting the 2023 SMACNA Annual Convention at the JW Marriott Phoenix Desert Ridge Resort & Spa in Phoenix\, Arizona\, which offers guests an incredible way to experience the unique beauty of the American West while experiencing warm\, genuine hospitality and an unmatched selection of programs and activities that celebrate the magnificent surroundings of the resort.\n\n\n\nFor more information click here\n\n \n\n2023 SMACNA Annual convention fees (US Dollars)\n\n\n	\n		\n			 \n			Early On/Before 6/15/2023\n			Regular On/Before 7/14/2023\n			Late After 8/15/2023\n		\n	\n	\n		\n			Member\n			$2\,200\n			$2\,500\n			$2\,700\n		\n		\n			Associate Member\n			$2\,200\n			$2\,500\n			$2\,700\n		\n		\n			Additional Member\n			$1\,750\n			$1\,950\n			$2\,150\n		\n		\n			Additional Associate Member\n			$1\,750\n			$1\,950\n			$2\,150\n		\n		\n			Member Spouse\n			$850\n			$1\,050\n			$1\,250\n		\n		\n			Family Member\n			$850\n			$1\,050\n			$1\,250\n		\n		\n			Family Member (Age 12 & Under\n			$300\n			$350\n			$400\n		\n		\n			Non-SMACNA Member\n			$3\,050\n			$3\,350\n			$3\,600\n		\n		\n			Non-Member Exhibitor\n			$3\,050\n			$3\,350\n			$3\,600\n		\n		\n			ASHRAE/IFUS Member\n			$2\,450\n			$2\,700\n			$2\,950\n		\n		\n			Additional ASHRAE/IFUS Member\n			$2\,000\n			$2\,250\n			$2\,500\n		\n		\n			Non-Member Spouse\n			$1\,150\n			$1\,350\n			$1\,550\n		\n		\n			PAC Night Event (13+)\n			$250\n			$250\n			$250\n		\n		\n			PAC Night Event (Age 12 & under)\n			$175\n			$175\n			$175\n		\n		\n			Clay Shooting Event (18+)\n			$200\n			$200\n			$200
X-ALT-DESC;FMTTYPE=text/html:<p><span style="font-size:16px\;">The 2023 SMACNA Annual Convention is a yearly highlight for members\, chapter executives and Associate Members wishing to network with peers\, see old friends\, learn important trends and new skills\, and discuss business topics with leading service providers and manufacturers. &nbsp\;In addition\, SMACNA offers wonderful opportunities to socialize and attend great social functions like the Meet &amp\; Greet Reception\, PAC Reception &amp\; Dinner\, College of Fellows Golf Outing\, and the Closing Dinner and Show.</span></p>\n\n<p><span style="font-size:16px\;">This year\, SMACNA is hosting the 2023 SMACNA Annual Convention at the JW Marriott Phoenix Desert Ridge Resort &amp\; Spa in Phoenix\, Arizona\, which offers guests an incredible way to experience the unique beauty of the American West while experiencing warm\, genuine hospitality and an unmatched selection of programs and activities that celebrate the magnificent surroundings of the resort.<br />\n<br />\nFor more information <a href="https://www.smacna.org/learn/events/calendar/2023-smacna-annual-convention-24e403b7d88a0ea5a50119ffa" target="_blank">click here</a></span><br />\n&nbsp\;</p>\n\n<h3>2023 SMACNA Annual convention fees (US Dollars)</h3>\n\n<table class="span12">\n	<thead>\n		<tr>\n			<th style="width: 40%">&nbsp\;</th>\n			<th style="width: 20%"><strong>Early On/Before 6/15/2023</strong></th>\n			<th style="width: 20%"><strong>Regular On/Before 7/14/2023</strong></th>\n			<th style="width: 20%"><strong>Late After 8/15/2023</strong></th>\n		</tr>\n	</thead>\n	<tbody>\n		<tr>\n			<td><strong>Member</strong></td>\n			<td><strong>$2\,200</strong></td>\n			<td><strong>$2\,500</strong></td>\n			<td><strong>$2\,700</strong></td>\n		</tr>\n		<tr>\n			<td><strong>Associate Member</strong></td>\n			<td><strong>$2\,200</strong></td>\n			<td><strong>$2\,500</strong></td>\n			<td><strong>$2\,700</strong></td>\n		</tr>\n		<tr>\n			<td><strong>Additional Member</strong></td>\n			<td><strong>$1\,750</strong></td>\n			<td><strong>$1\,950</strong></td>\n			<td><strong>$2\,150</strong></td>\n		</tr>\n		<tr>\n			<td><strong>Additional Associate Member</strong></td>\n			<td><strong>$1\,750</strong></td>\n			<td><strong>$1\,950</strong></td>\n			<td><strong>$2\,150</strong></td>\n		</tr>\n		<tr>\n			<td><strong>Member Spouse</strong></td>\n			<td><strong>$850</strong></td>\n			<td><strong>$1\,050</strong></td>\n			<td><strong>$1\,250</strong></td>\n		</tr>\n		<tr>\n			<td><strong>Family Member</strong></td>\n			<td><strong>$850</strong></td>\n			<td><strong>$1\,050</strong></td>\n			<td><strong>$1\,250</strong></td>\n		</tr>\n		<tr>\n			<td><strong>Family Member (Age 12 &amp\; Under</strong></td>\n			<td><strong>$300</strong></td>\n			<td><strong>$350</strong></td>\n			<td><strong>$400</strong></td>\n		</tr>\n		<tr>\n			<td><strong>Non-SMACNA Member</strong></td>\n			<td><strong>$3\,050</strong></td>\n			<td><strong>$3\,350</strong></td>\n			<td><strong>$3\,600</strong></td>\n		</tr>\n		<tr>\n			<td><strong>Non-Member Exhibitor</strong></td>\n			<td><strong>$3\,050</strong></td>\n			<td><strong>$3\,350</strong></td>\n			<td><strong>$3\,600</strong></td>\n		</tr>\n		<tr>\n			<td><strong>ASHRAE/IFUS Member</strong></td>\n			<td><strong>$2\,450</strong></td>\n			<td><strong>$2\,700</strong></td>\n			<td><strong>$2\,950</strong></td>\n		</tr>\n		<tr>\n			<td><strong>Additional ASHRAE/IFUS Member</strong></td>\n			<td><strong>$2\,000</strong></td>\n			<td><strong>$2\,250</strong></td>\n			<td><strong>$2\,500</strong></td>\n		</tr>\n		<tr>\n			<td><strong>Non-Member Spouse</strong></td>\n			<td><strong>$1\,150</strong></td>\n			<td><strong>$1\,350</strong></td>\n			<td><strong>$1\,550</strong></td>\n		</tr>\n		<tr>\n			<td><strong>PAC Night Event (13+)</strong></td>\n			<td><strong>$250</strong></td>\n			<td><strong>$250</strong></td>\n			<td><strong>$250</strong></td>\n		</tr>\n		<tr>\n			<td><strong>PAC Night Event (Age 12 &amp\; under)</strong></td>\n			<td><strong>$175</strong></td>\n			<td><strong>$175</strong></td>\n			<td><strong>$175</strong></td>\n		</tr>\n		<tr>\n			<td><strong>Clay Shooting Event (18+)</strong></td>\n			<td><strong>$200</strong></td>\n			<td><strong>$200</strong></td>\n			<td><strong>$200</strong></td>\n		</tr>\n	</tbody>\n</table>\n
LOCATION:HOTEL INFORMATION AND ACCOMMODATIONS JW Marriott Desert Ridge 5350 East Marriott Drive Phoenix\, AZ 85054 Phone: 480-293-5000 Room Rates: Standard Run of House Room Rate: $335++USD *Rooms are limited and available on a first-come\, first-serve basis. Additional Fees: Taxes: 12.57% (subject to change) Parking: self-parking is $23 USD per night\; valet is available for $39 USD per night* *rates subject to change To inquire about suites\, please contact the SMACNA Meetings Department at events@smacna.org. RESERVATION CUTOFF: September 15\, 2023 Please note\, the hotel room rate includes a $20 USD daily resort charge\, plus tax 12.57% (subject to change). The Daily Resort Charge includes: Wired and wireless high-speed internet in meeting space Guest room wireless internet for up to 6 devices and local/domestic long distance calls Use of Wildfire Golf Driving Range with unlimited balls and use of clubs on range (proper golf attire required) Golf bag storage at Wildfire Golf Club Use of tennis facilities includes (2) hours of court time\, for up to 4 guests\, 4 racquets and balls based on availability Use of pickleball facilities\, includes (2) hours of court time\, for up to 4 guests\, 4 paddles\, and balls\, based upon availability Bicycle rental for (2) hours \, up to 4 bicycles\, based upon availability Shuttle service to Desert Ridge Marketplace and City/North shopping areas (schedule varies and no reservations accepted) One dinner appetizer or dinner dessert at either of the Resort restaurants\, MERITAGE\, and Urban Tavern or Stonegrill\, with purchase of one entr e\, with maximum of two per room (Roy's is not included in this offer)
UID:e.9605.2
SEQUENCE:3
DTSTAMP:20260421T130457Z
URL:https://business.smacna-bc.org/events/details/smacna-national-2023-convention-phoenix-az-2
END:VEVENT

END:VCALENDAR
