BEGIN:VCALENDAR
VERSION:2.0
PRODID:-//ChamberMaster//Event Calendar 2.0//EN
METHOD:PUBLISH
X-PUBLISHED-TTL:P3D
REFRESH-INTERVAL:P3D
CALSCALE:GREGORIAN
BEGIN:VEVENT
DTSTART:20230921T143000Z
DTEND:20230921T190000Z
X-MICROSOFT-CDO-ALLDAYEVENT:FALSE
SUMMARY:SMACNA-BC September 2023 Contractors Meeting
DESCRIPTION:SMACNA-BC Contractors Only Meeting\n\n\n\nThis morning meeting\, will be held to discuss a change order template that SMACNA-BC committee members have been working on. The goal is to produce a sample for contractors to use\, that accurately breaks down the hourly rate associated with Change Order work.\n\n\n\nThis meeting is meant to be interactive. We will show you what we have produced to date but would appreciate feedback so this can be finalized and distributed to all.\n\n\n\n(Please note that breakfast will be provided)
X-ALT-DESC;FMTTYPE=text/html:<p style="text-align: justify\;"><strong>SMACNA-BC Contractors Only Meeting</strong><br />\n<br />\nThis morning meeting\, will be held to discuss a change order template that SMACNA-BC committee members have been working on. The goal is to produce a sample for contractors to use\, that accurately breaks down the hourly rate associated with Change Order work.<br />\n<br />\nThis meeting is meant to be interactive. We will show you what we have produced to date but would appreciate feedback so this can be finalized and distributed to all.<br />\n<br />\n(Please note that breakfast will be provided)<br />\n&nbsp\;</p>\n
LOCATION:Delta Hotels Burnaby Conference Centre - 'Ballroom TBD'
UID:e.9605.132
SEQUENCE:3
DTSTAMP:20260423T090239Z
URL:http://business.smacna-bc.org/events/details/smacna-bc-september-2023-contractors-meeting-132
END:VEVENT

END:VCALENDAR
