BEGIN:VCALENDAR
VERSION:2.0
PRODID:-//ChamberMaster//Event Calendar 2.0//EN
METHOD:PUBLISH
X-PUBLISHED-TTL:P3D
REFRESH-INTERVAL:P3D
CALSCALE:GREGORIAN
BEGIN:VEVENT
DTSTART:20231202T023000Z
DTEND:20231202T074500Z
X-MICROSOFT-CDO-ALLDAYEVENT:FALSE
SUMMARY:Christmas Party SMACNA-BC 2023
DESCRIPTION:Join us in celebrating the holiday season at SMACNA-BC's Annual Christmas Party!\n\n\n\nIt will be an evening full of wonderful company\, a delicious dinner\, and great entertainment. As in year's past\, there will be photo's with Santa and a centerpiece giveaway.\n\n\n\n\n\n\n\nPlease follow the link to donate to "Helping Families in Need Society" for a cash donation ($35 increments) on the registration form or bring an unwrapped gift suitable for a child or a parent to be placed under the SMACNA-BC Christmas Tree.\n\n\n\nHotel room reservation information is available with your confirmation at the end of the registration process. *Reservations are accepted based on availability\; first come first served.
X-ALT-DESC;FMTTYPE=text/html:<p><span style="font-size:16px\;">Join us in celebrating the holiday season at SMACNA-BC&rsquo\;s Annual Christmas Party!<br />\n<br />\nIt will be an evening full of wonderful company\, a delicious dinner\,&nbsp\;and great entertainment. As in year&#39\;s past\, there will be photo&#39\;s with Santa&nbsp\;and a centerpiece giveaway.<br />\n<br />\n<br />\n<br />\n<strong>Please follow the link to donate&nbsp\;to </strong><span style="font-size:18px\;"><u><strong>&ldquo\;<a href="https://helpingfamiliesinneed.org/" target="_blank">Helping Families in Need Society</a>&rdquo\;</strong></u></span><strong> for a <em>cash donation </em>($35 increments) on the registration form or&nbsp\;bring an unwrapped gift suitable for a child or a parent to be placed under the SMACNA-BC Christmas Tree.</strong></span><br />\n<br />\n<span style="font-size: 16px\;">Hotel room reservation information is available with your confirmation at the end of the registration process. *Reservations are accepted based on availability\; first come first served.</span><br />\n<br />\n<br />\n<br />\n<br />\n&nbsp\;</p>\n
LOCATION:Oceans 999 (Atrium Area) Pan Pacific Hotel Vancouver
UID:e.9605.135
SEQUENCE:3
DTSTAMP:20260424T013747Z
URL:http://business.smacna-bc.org/events/details/christmas-party-smacna-bc-2023-135
END:VEVENT

END:VCALENDAR
